BEGIN:VCALENDAR
VERSION:2.0
PRODID:-//AudioTheme 2.3.7
BEGIN:VEVENT
UID:urn:uuid:66a1db15-994b-4d6e-b7ac-c14bd8e171f6
URL:http://jerrylu.de/shows/jerry-lu-trio-polychromfestival/
DTSTART;TZID=GMT:20230610T150000
SUMMARY:Jerry Lu Trio - Polychromfestival
DESCRIPTION:<strong><font color="white">Trio Jazz</font color></strong>  Jerry Lu – Piano  Stefan Rey – Bass | Niklas Walter – Schlagzeug
LOCATION:Katharinenkirche\, An d. Katharinenkirche 8 / 49074 Osnabrück\, Katharinenkirche\, Osnabrück\, Germany\, 49074
END:VEVENT
END:VCALENDAR
