BEGIN:VCALENDAR
VERSION:2.0
PRODID:-//AudioTheme 2.3.7
BEGIN:VEVENT
UID:urn:uuid:e27d7116-8d96-425c-86b6-2a926dc5c6d2
URL:http://jerrylu.de/shows/maik-krahl-quartett-3/
DTSTART;TZID=GMT:20230226T190000
SUMMARY:Maik Krahl Quartett
DESCRIPTION:Maik Krahl – Trumpet | Jerry Lu – Piano |  Jakob Kühnemann – Bass | Fabian Rösch – Schlagzeug
LOCATION:Martin-Luther-Kirche\, Kirchenstraße 13\, Martin-Luther-Kirche\, Trittau\, Germany\, 22946
END:VEVENT
END:VCALENDAR
