BEGIN:VCALENDAR
VERSION:2.0
PRODID:-//AudioTheme 2.3.7
BEGIN:VEVENT
UID:urn:uuid:2c6587b5-d5eb-40b1-a766-7536b8872dd3
URL:http://jerrylu.de/shows/tom-gaebel-his-orchestra-15/
DTSTART;TZID=GMT:20230615T180000
SUMMARY:Tom Gaebel & His Orchestra
DESCRIPTION:<strong><font color="white">Vocal Jazz</font color></strong>
LOCATION:Ostseebad Ahrenshoop\, Dorfstraße 16B / 18347 Ahrenshoop\, Ostseebad Ahrenshoop\, Ahrenshoop\, Germany\, 18347
END:VEVENT
END:VCALENDAR
