BEGIN:VCALENDAR
VERSION:2.0
PRODID:-//AudioTheme 2.3.7
BEGIN:VEVENT
UID:urn:uuid:83ed5c44-0f18-4d02-8452-da9df5e13c15
URL:http://jerrylu.de/shows/tom-gaebel-his-trio-a-spinnig-affair/
DTSTART;TZID=GMT:20230526T180000
SUMMARY:Tom Gaebel & His Trio - A Swinging Affair
DESCRIPTION:<strong><font color="white">Vocal Jazz</font color></strong>  Tom Gaebel – Vocals | Jerry Lu – Piano  Stefan Rey – Bass | Niklas Walter – Schlagzeug
LOCATION:Burg Taggenbrunn\, Taggenbrunn 11\, 9300 ST. VEIT AN DER GLAN\, Burg Taggenbrunn\, ST. VEIT AN DER GLAN\, Austria\, 9300
END:VEVENT
END:VCALENDAR
